BEGIN:VCALENDAR
VERSION:2.0
PRODID:-//RoAM - ECPv6.15.20//NONSGML v1.0//EN
CALSCALE:GREGORIAN
METHOD:PUBLISH
X-ORIGINAL-URL:https://roam-somerset.org.uk
X-WR-CALDESC:Events for RoAM
REFRESH-INTERVAL;VALUE=DURATION:PT1H
X-Robots-Tag:noindex
X-PUBLISHED-TTL:PT1H
BEGIN:VTIMEZONE
TZID:Europe/London
BEGIN:DAYLIGHT
TZOFFSETFROM:+0000
TZOFFSETTO:+0100
TZNAME:BST
DTSTART:20250330T010000
END:DAYLIGHT
BEGIN:STANDARD
TZOFFSETFROM:+0100
TZOFFSETTO:+0000
TZNAME:GMT
DTSTART:20251026T010000
END:STANDARD
BEGIN:DAYLIGHT
TZOFFSETFROM:+0000
TZOFFSETTO:+0100
TZNAME:BST
DTSTART:20260329T010000
END:DAYLIGHT
BEGIN:STANDARD
TZOFFSETFROM:+0100
TZOFFSETTO:+0000
TZNAME:GMT
DTSTART:20261025T010000
END:STANDARD
BEGIN:DAYLIGHT
TZOFFSETFROM:+0000
TZOFFSETTO:+0100
TZNAME:BST
DTSTART:20270328T010000
END:DAYLIGHT
BEGIN:STANDARD
TZOFFSETFROM:+0100
TZOFFSETTO:+0000
TZNAME:GMT
DTSTART:20271031T010000
END:STANDARD
END:VTIMEZONE
BEGIN:VEVENT
DTSTART;TZID=Europe/London:20260924T103000
DTEND;TZID=Europe/London:20260924T103000
DTSTAMP:20260421T110908
CREATED:20260405T192535Z
LAST-MODIFIED:20260405T192535Z
UID:5979-1790245800-1790245800@roam-somerset.org.uk
SUMMARY:General Survey - Steart Marshes
DESCRIPTION:Meet at Steart Marshes car park\, A return visit to this super WWT reserve visiting fresh\nwater habitats. \nMeet at WWT reserve car park at ST252442
URL:https://roam-somerset.org.uk/event/general-survey-steart-marshes/
LOCATION:Steart Marshes\, WWT Steart Marshes\, Stert Drove\,\, Bridgwater\, TA5 2PU
END:VEVENT
END:VCALENDAR